BEGIN:VCALENDAR
VERSION:2.0
PRODID:-//hacksw/handcal//NONSGML v1.0//EN
BEGIN:VEVENT
UID:webmaster@cooper.edu
DTSTAMP; TZID=America/New_York:20171016T183000
ORGANIZER;CN=The Cooper Union:MAILTO:webmaster@cooper.edu
DTSTART; TZID=America/New_York:20171016T183000
DTEND; TZID=America/New_York:20171016T203000
SUMMARY:Can You See This?
DESCRIPTION:How letters got on the eye chart and what they’re doing there
END:VEVENT
END:VCALENDAR
