BEGIN:VCALENDAR
VERSION:2.0
PRODID:-//hacksw/handcal//NONSGML v1.0//EN
BEGIN:VEVENT
UID:webmaster@cooper.edu
DTSTAMP; TZID=America/New_York:20170923T120000
ORGANIZER;CN=The Cooper Union:MAILTO:webmaster@cooper.edu
DTSTART; TZID=America/New_York:20170923T120000
DTEND; TZID=America/New_York:20170923T170000
SUMMARY:Peter Cooper Block Party 2017
DESCRIPTION:The fourth annual event, in conjunction with the Astor Alive! performing arts street festival, presents a day of free, public activities outside the Foundation Building
END:VEVENT
END:VCALENDAR
