BEGIN:VCALENDAR
VERSION:2.0
PRODID:-//hacksw/handcal//NONSGML v1.0//EN
BEGIN:VEVENT
UID:webmaster@cooper.edu
DTSTAMP; TZID=America/New_York:20171004T115256
ORGANIZER;CN=The Cooper Union:MAILTO:webmaster@cooper.edu
DTSTART; TZID=America/New_York:20171004T115256
DTEND; TZID=America/New_York:20171022T115256
SUMMARY:ATLAS OF (IN)VISIBLE SPACES
DESCRIPTION:An exhibition of photographs of city nature by School of Architecture faculty member Linda Pollak.
END:VEVENT
END:VCALENDAR
