BEGIN:VCALENDAR
VERSION:2.0
PRODID:-//hacksw/handcal//NONSGML v1.0//EN
BEGIN:VEVENT
UID:webmaster@cooper.edu
DTSTAMP; TZID=America/New_York:20171113T193000
ORGANIZER;CN=The Cooper Union:MAILTO:webmaster@cooper.edu
DTSTART; TZID=America/New_York:20171113T193000
DTEND; TZID=America/New_York:20171113T210000
SUMMARY:Milton Glaser A'51 in the Great Hall
DESCRIPTION:The renowned artist and designer,&nbsp;returns to his alma mater for a free, public discussion on "The Design of Dissent"
END:VEVENT
END:VCALENDAR
