BEGIN:VCALENDAR
VERSION:2.0
PRODID:-//hacksw/handcal//NONSGML v1.0//EN
BEGIN:VEVENT
UID:webmaster@cooper.edu
DTSTAMP; TZID=America/New_York:20170926T190000
ORGANIZER;CN=The Cooper Union:MAILTO:webmaster@cooper.edu
DTSTART; TZID=America/New_York:20170926T190000
DTEND; TZID=America/New_York:20170926T200000
SUMMARY:Intra-Disciplinary Seminar Public Lecture: Theaster Gates
DESCRIPTION:The social practice installation artist delivers a free, public lecture entitled, "Two Long Poems"
END:VEVENT
END:VCALENDAR
