BEGIN:VCALENDAR
VERSION:2.0
PRODID:-//hacksw/handcal//NONSGML v1.0//EN
BEGIN:VEVENT
UID:webmaster@cooper.edu
DTSTAMP; TZID=America/New_York:20171001T150000
ORGANIZER;CN=The Cooper Union:MAILTO:webmaster@cooper.edu
DTSTART; TZID=America/New_York:20171001T150000
DTEND; TZID=America/New_York:20171001T163000
SUMMARY:The Orchestra Now: Haydn and "Frankenstein!!"
DESCRIPTION:A free concert of works by Sibelius, Gruber and Haydn conducted by James Bagwell
END:VEVENT
END:VCALENDAR
