BEGIN:VCALENDAR
VERSION:2.0
PRODID:-//hacksw/handcal//NONSGML v1.0//EN
BEGIN:VEVENT
UID:webmaster@cooper.edu
DTSTAMP; TZID=America/New_York:20171012T183000
ORGANIZER;CN=The Cooper Union:MAILTO:webmaster@cooper.edu
DTSTART; TZID=America/New_York:20171012T183000
DTEND; TZID=America/New_York:20171012T200000
SUMMARY:Ai Weiwei in Conversation with Nicholas Baume
DESCRIPTION:The Public Art Fund Director talks with the internationally-renowned artist about his latest work, "Good Fences Make Good Neighbors," located around the city, including at The Cooper Union
END:VEVENT
END:VCALENDAR
