BEGIN:VCALENDAR
VERSION:2.0
PRODID:-//hacksw/handcal//NONSGML v1.0//EN
BEGIN:VEVENT
UID:webmaster@cooper.edu
DTSTAMP; TZID=America/New_York:20171017T130000
ORGANIZER;CN=The Cooper Union:MAILTO:webmaster@cooper.edu
DTSTART; TZID=America/New_York:20171017T130000
DTEND; TZID=America/New_York:20171017T140000
SUMMARY:A Talk by General Jay Raymond
DESCRIPTION:General John ;W. “Jay” Raymond will speak and answer questions about the Air Force Space Command
END:VEVENT
END:VCALENDAR
