BEGIN:VCALENDAR
VERSION:2.0
PRODID:-//hacksw/handcal//NONSGML v1.0//EN
BEGIN:VEVENT
UID:webmaster@cooper.edu
DTSTAMP; TZID=America/New_York:20170919T190000
ORGANIZER;CN=The Cooper Union:MAILTO:webmaster@cooper.edu
DTSTART; TZID=America/New_York:20170919T190000
DTEND; TZID=America/New_York:20170919T200000
SUMMARY:Intra-Disciplinary Seminar Public Lecture: Ramzi Kassem
DESCRIPTION:The CUNY law professor delivers a free, public lecture entitled, "Guantánamo or the Limit of Law"
END:VEVENT
END:VCALENDAR
