BEGIN:VCALENDAR
VERSION:2.0
PRODID:-//hacksw/handcal//NONSGML v1.0//EN
BEGIN:VEVENT
UID:webmaster@cooper.edu
DTSTAMP; TZID=America/New_York:20171017T140000
ORGANIZER;CN=The Cooper Union:MAILTO:webmaster@cooper.edu
DTSTART; TZID=America/New_York:20171017T140000
DTEND; TZID=America/New_York:20171202T190000
SUMMARY:Geostories: Another Architecture for the Environment
DESCRIPTION:An exhibition of large-scale drawings by the research & design firm Design Earth that invite the public to engage the Earth and humanity's relation to it.
END:VEVENT
END:VCALENDAR
