BEGIN:VCALENDAR
VERSION:2.0
PRODID:-//hacksw/handcal//NONSGML v1.0//EN
BEGIN:VEVENT
UID:webmaster@cooper.edu
DTSTAMP; TZID=America/New_York:20171017T120000
ORGANIZER;CN=The Cooper Union:MAILTO:webmaster@cooper.edu
DTSTART; TZID=America/New_York:20171017T120000
DTEND; TZID=America/New_York:20171017T140000
SUMMARY:Lunchtime Lecture | Rural Urban Framework: John Lin, AR '02 and Joshua Balchover
DESCRIPTION:John Lin, AR '02 and Joshua Balchover will present on the work of&nbsp;Rural Urban Framework.&nbsp;
END:VEVENT
END:VCALENDAR
