BEGIN:VCALENDAR
VERSION:2.0
PRODID:-//hacksw/handcal//NONSGML v1.0//EN
BEGIN:VEVENT
UID:webmaster@cooper.edu
DTSTAMP; TZID=America/New_York:20170919T120000
ORGANIZER;CN=The Cooper Union:MAILTO:webmaster@cooper.edu
DTSTART; TZID=America/New_York:20170919T120000
DTEND; TZID=America/New_York:20170919T140000
SUMMARY:Lunchtime Lecture | Benjamin Aranda: Trace Elements
DESCRIPTION:Prof.&nbsp;Aranda will discuss the role of book publishing in emerging architectural practice.
END:VEVENT
END:VCALENDAR
