BEGIN:VCALENDAR
VERSION:2.0
PRODID:-//hacksw/handcal//NONSGML v1.0//EN
BEGIN:VEVENT
UID:webmaster@cooper.edu
DTSTAMP; TZID=America/New_York:20171003T190000
ORGANIZER;CN=The Cooper Union:MAILTO:webmaster@cooper.edu
DTSTART; TZID=America/New_York:20171003T190000
DTEND; TZID=America/New_York:20171003T210000
SUMMARY:Daniel Libeskind AR'70: From Zero to Infinity
DESCRIPTION:The renowned architect and designer delivers a free, public lecture in the Great Hall
END:VEVENT
END:VCALENDAR
