BEGIN:VCALENDAR
VERSION:2.0
PRODID:-//hacksw/handcal//NONSGML v1.0//EN
BEGIN:VEVENT
UID:webmaster@cooper.edu
DTSTAMP; TZID=America/New_York:20170923T130000
ORGANIZER;CN=The Cooper Union:MAILTO:webmaster@cooper.edu
DTSTART; TZID=America/New_York:20170923T130000
DTEND; TZID=America/New_York:20170923T180000
SUMMARY:Architecture Books / Yet to be Written / 1982-2017-2052
DESCRIPTION:Seminal voices in the discipline and profession will present and discuss the making of architecture and books.
END:VEVENT
END:VCALENDAR
