BEGIN:VCALENDAR
VERSION:2.0
PRODID:-//hacksw/handcal//NONSGML v1.0//EN
BEGIN:VEVENT
UID:webmaster@cooper.edu
DTSTAMP; TZID=America/New_York:20170928T183000
ORGANIZER;CN=The Cooper Union:MAILTO:webmaster@cooper.edu
DTSTART; TZID=America/New_York:20170928T183000
DTEND; TZID=America/New_York:20170928T210000
SUMMARY:Film Screening | Point 0: Architects in the Making
DESCRIPTION:Screening of Point O: Architects in the Making, a film by Christina Condak
END:VEVENT
END:VCALENDAR
