BEGIN:VCALENDAR
VERSION:2.0
PRODID:-//hacksw/handcal//NONSGML v1.0//EN
BEGIN:VEVENT
UID:webmaster@cooper.edu
DTSTAMP; TZID=America/New_York:20170905T120000
ORGANIZER;CN=The Cooper Union:MAILTO:webmaster@cooper.edu
DTSTART; TZID=America/New_York:20170905T120000
DTEND; TZID=America/New_York:20170905T140000
SUMMARY:Architecture School Assembly: Fall 2017 Design Studio Presentations 
DESCRIPTION:Faculty will introduce the design studios for fall 2017.&nbsp;
END:VEVENT
END:VCALENDAR
