BEGIN:VCALENDAR
VERSION:2.0
PRODID:-//hacksw/handcal//NONSGML v1.0//EN
BEGIN:VEVENT
UID:webmaster@cooper.edu
DTSTAMP; TZID=America/New_York:20171111T150000
ORGANIZER;CN=The Cooper Union:MAILTO:webmaster@cooper.edu
DTSTART; TZID=America/New_York:20171111T150000
DTEND; TZID=America/New_York:20171111T190000
SUMMARY:Bitter Laughter 2017
DESCRIPTION:The annual examination of issues affecting Latin America and Spain through the lens of art focuses on women cartoonists from those regions
END:VEVENT
END:VCALENDAR
