BEGIN:VCALENDAR
VERSION:2.0
PRODID:-//hacksw/handcal//NONSGML v1.0//EN
BEGIN:VEVENT
UID:webmaster@cooper.edu
DTSTAMP; TZID=America/New_York:20170612T183000
ORGANIZER;CN=The Cooper Union:MAILTO:webmaster@cooper.edu
DTSTART; TZID=America/New_York:20170612T183000
DTEND; TZID=America/New_York:20170612T203000
SUMMARY:The Process Is the Inspiration
DESCRIPTION:In this free, public talk, Andy Cruz, Rich Roat and Ken Barber of House Industries will post-intellectualize their new book, House Industries: The Process Is the Inspiration
END:VEVENT
END:VCALENDAR
