BEGIN:VCALENDAR
VERSION:2.0
PRODID:-//hacksw/handcal//NONSGML v1.0//EN
BEGIN:VEVENT
UID:webmaster@cooper.edu
DTSTAMP; TZID=America/New_York:20170619T183000
ORGANIZER;CN=The Cooper Union:MAILTO:webmaster@cooper.edu
DTSTART; TZID=America/New_York:20170619T183000
DTEND; TZID=America/New_York:20170619T203000
SUMMARY:From Calligraphy to Type
DESCRIPTION:In this free, public lecture Ewan Clayton, the author of The Golden Thread, a history of writing, reviews the evidence for the interplay of calligraphic and typographic understandings at the origins of western type design
END:VEVENT
END:VCALENDAR
