BEGIN:VCALENDAR
VERSION:2.0
PRODID:-//hacksw/handcal//NONSGML v1.0//EN
BEGIN:VEVENT
UID:webmaster@cooper.edu
DTSTAMP; TZID=America/New_York:20170612T183000
ORGANIZER;CN=The Cooper Union:MAILTO:webmaster@cooper.edu
DTSTART; TZID=America/New_York:20170612T183000
DTEND; TZID=America/New_York:20170612T203000
SUMMARY:Author Talk: Naomi Klein
DESCRIPTION:A free, public discussion of resistance in the Trump era with journalist and author Naomi Klein who will discuss her latest book "No Is Not Enough" with the comic Hari Kondablolu
END:VEVENT
END:VCALENDAR
