BEGIN:VCALENDAR
VERSION:2.0
PRODID:-//hacksw/handcal//NONSGML v1.0//EN
BEGIN:VEVENT
UID:webmaster@cooper.edu
DTSTAMP; TZID=America/New_York:20170523T103000
ORGANIZER;CN=The Cooper Union:MAILTO:webmaster@cooper.edu
DTSTART; TZID=America/New_York:20170523T103000
DTEND; TZID=America/New_York:20170523T123000
SUMMARY:Commencement 2017
DESCRIPTION:Cooper Union's 158th Commencement will take place on Tuesday May 23, 2017 at 10:30 a.m. Watch it LIVE
END:VEVENT
END:VCALENDAR
