BEGIN:VCALENDAR
VERSION:2.0
PRODID:-//hacksw/handcal//NONSGML v1.0//EN
BEGIN:VEVENT
UID:webmaster@cooper.edu
DTSTAMP; TZID=America/New_York:20170503T183000
ORGANIZER;CN=The Cooper Union:MAILTO:webmaster@cooper.edu
DTSTART; TZID=America/New_York:20170503T183000
DTEND; TZID=America/New_York:20170503T193000
SUMMARY:Author Talk: Ordinary Jews
DESCRIPTION:A free, public talk by Evgeny Finkel, author of Ordinary Jews, on the subject of how Jewish responses during the Holocaust shed new light on the dynamics of genocide and political violence
END:VEVENT
END:VCALENDAR
