BEGIN:VCALENDAR
VERSION:2.0
PRODID:-//hacksw/handcal//NONSGML v1.0//EN
BEGIN:VEVENT
UID:webmaster@cooper.edu
DTSTAMP; TZID=America/New_York:20170507T180000
ORGANIZER;CN=The Cooper Union:MAILTO:webmaster@cooper.edu
DTSTART; TZID=America/New_York:20170507T180000
DTEND; TZID=America/New_York:20170507T193000
SUMMARY:In Conversation: Masha Gessen and Samantha Bee
DESCRIPTION:Russian and American journalist and author Masha Gessen will give a short lecture followed by a longer conversation with Samantha Bee
END:VEVENT
END:VCALENDAR
