BEGIN:VCALENDAR
VERSION:2.0
PRODID:-//hacksw/handcal//NONSGML v1.0//EN
BEGIN:VEVENT
UID:webmaster@cooper.edu
DTSTAMP; TZID=America/New_York:20170506T160000
ORGANIZER;CN=The Cooper Union:MAILTO:webmaster@cooper.edu
DTSTART; TZID=America/New_York:20170506T160000
DTEND; TZID=America/New_York:20170506T173000
SUMMARY:The Incarceration of Women
DESCRIPTION:A discussion with Piper Kerman, Christine Pahigian, and Vivian Nixon. Moderated by Kate Landon
END:VEVENT
END:VCALENDAR
