BEGIN:VCALENDAR
VERSION:2.0
PRODID:-//hacksw/handcal//NONSGML v1.0//EN
BEGIN:VEVENT
UID:webmaster@cooper.edu
DTSTAMP; TZID=America/New_York:20170421T190000
ORGANIZER;CN=The Cooper Union:MAILTO:webmaster@cooper.edu
DTSTART; TZID=America/New_York:20170421T190000
DTEND; TZID=America/New_York:20170421T210000
SUMMARY:Earth2Trump: Road of Resistance
DESCRIPTION:A free, public gathering in the Great Hall featuring musicians and speakers to help fight President Trump's environmental policies including the Dakota Access Pipeline decision
END:VEVENT
END:VCALENDAR
