BEGIN:VCALENDAR
VERSION:2.0
PRODID:-//hacksw/handcal//NONSGML v1.0//EN
BEGIN:VEVENT
UID:webmaster@cooper.edu
DTSTAMP; TZID=America/New_York:20170430T150000
ORGANIZER;CN=The Cooper Union:MAILTO:webmaster@cooper.edu
DTSTART; TZID=America/New_York:20170430T150000
DTEND; TZID=America/New_York:20170430T170000
SUMMARY:House Divided
DESCRIPTION:House Divided is a free, public event bringing artists, writers and other members of the creative community to address the national political divisions
END:VEVENT
END:VCALENDAR
