BEGIN:VCALENDAR
VERSION:2.0
PRODID:-//hacksw/handcal//NONSGML v1.0//EN
BEGIN:VEVENT
UID:webmaster@cooper.edu
DTSTAMP; TZID=America/New_York:20170506T120000
ORGANIZER;CN=The Cooper Union:MAILTO:webmaster@cooper.edu
DTSTART; TZID=America/New_York:20170506T120000
DTEND; TZID=America/New_York:20170506T130000
SUMMARY:Forbidden: Too Nationalistic 
DESCRIPTION:A discussion of the follies of nationalism and art in the former Yugoslavia, both at home and in exile with Dubravka Ugresic, Aleksandar Hemon, and Igor Stiks
END:VEVENT
END:VCALENDAR
