BEGIN:VCALENDAR
VERSION:2.0
PRODID:-//hacksw/handcal//NONSGML v1.0//EN
BEGIN:VEVENT
UID:webmaster@cooper.edu
DTSTAMP; TZID=America/New_York:20170501T190000
ORGANIZER;CN=The Cooper Union:MAILTO:webmaster@cooper.edu
DTSTART; TZID=America/New_York:20170501T190000
DTEND; TZID=America/New_York:20170501T203000
SUMMARY:United Against Hate
DESCRIPTION:Performances, readings, and conversations with Patti Smith, Ani DiFranco, Andrew Solomon, Salman Rushdie, and others as part of the PEN World Voices Festival
END:VEVENT
END:VCALENDAR
