BEGIN:VCALENDAR
VERSION:2.0
PRODID:-//hacksw/handcal//NONSGML v1.0//EN
BEGIN:VEVENT
UID:webmaster@cooper.edu
DTSTAMP; TZID=America/New_York:20170504T183000
ORGANIZER;CN=The Cooper Union:MAILTO:webmaster@cooper.edu
DTSTART; TZID=America/New_York:20170504T183000
DTEND; TZID=America/New_York:20170504T193000
SUMMARY:In Conversation: Eric H. Cline & Mark Adams
DESCRIPTION:The author of "Three Stones Make a Wall: The Story of Archeology", will have a free, public discussion of the history of archeology with Mark Adams, the journalist and author
END:VEVENT
END:VCALENDAR
