BEGIN:VCALENDAR
VERSION:2.0
PRODID:-//hacksw/handcal//NONSGML v1.0//EN
BEGIN:VEVENT
UID:webmaster@cooper.edu
DTSTAMP; TZID=America/New_York:20170418T100000
ORGANIZER;CN=The Cooper Union:MAILTO:webmaster@cooper.edu
DTSTART; TZID=America/New_York:20170418T100000
DTEND; TZID=America/New_York:20170418T120000
SUMMARY:David Gersten: Two Talks on John Hejduk
DESCRIPTION:Professor David Gersten will present two lectures&nbsp;on John Hejduk.
END:VEVENT
END:VCALENDAR
BEGIN:VCALENDAR
VERSION:2.0
PRODID:-//hacksw/handcal//NONSGML v1.0//EN
BEGIN:VEVENT
UID:webmaster@cooper.edu
DTSTAMP; TZID=America/New_York:20170420T180000
ORGANIZER;CN=The Cooper Union:MAILTO:webmaster@cooper.edu
DTSTART; TZID=America/New_York:20170420T180000
DTEND; TZID=America/New_York:20170420T200000
SUMMARY:David Gersten: Two Talks on John Hejduk
DESCRIPTION:Professor David Gersten will present two lectures&nbsp;on John Hejduk.
END:VEVENT
END:VCALENDAR
