BEGIN:VCALENDAR
VERSION:2.0
PRODID:-//hacksw/handcal//NONSGML v1.0//EN
BEGIN:VEVENT
UID:webmaster@cooper.edu
DTSTAMP; TZID=America/New_York:20170422T190000
ORGANIZER;CN=The Cooper Union:MAILTO:webmaster@cooper.edu
DTSTART; TZID=America/New_York:20170422T190000
DTEND; TZID=America/New_York:20170422T203000
SUMMARY:Lost Rondout: A Story of Urban Removal
DESCRIPTION:A free, public screening of a documentary that chronicles how a federally funded 1960s urban renewal project devastated the "Rondout," a waterfront district of Kingston, New York
END:VEVENT
END:VCALENDAR
