BEGIN:VCALENDAR
VERSION:2.0
PRODID:-//hacksw/handcal//NONSGML v1.0//EN
BEGIN:VEVENT
UID:webmaster@cooper.edu
DTSTAMP; TZID=America/New_York:20170410T190000
ORGANIZER;CN=The Cooper Union:MAILTO:webmaster@cooper.edu
DTSTART; TZID=America/New_York:20170410T190000
DTEND; TZID=America/New_York:20170410T210000
SUMMARY:Filmmaker Avi Mograbi and "Between Fences"
DESCRIPTION:The Interdisciplinary Seminar presents a free, public screening of Between Fences (2016), a film by Avi Mograbi, followed by a discussion with the filmmaker
END:VEVENT
END:VCALENDAR
