BEGIN:VCALENDAR
VERSION:2.0
PRODID:-//hacksw/handcal//NONSGML v1.0//EN
BEGIN:VEVENT
UID:webmaster@cooper.edu
DTSTAMP; TZID=America/New_York:20170407T183000
ORGANIZER;CN=The Cooper Union:MAILTO:webmaster@cooper.edu
DTSTART; TZID=America/New_York:20170407T183000
DTEND; TZID=America/New_York:20170409T170000
SUMMARY:The Cooper Dramatic Society: "A Play"
DESCRIPTION:The student-run Cooper Dramatic Society presents free performances of "A Play," written by Jack Pannell, and set in the Brighton countryside of England during World War II
END:VEVENT
END:VCALENDAR
