BEGIN:VCALENDAR
VERSION:2.0
PRODID:-//hacksw/handcal//NONSGML v1.0//EN
BEGIN:VEVENT
UID:webmaster@cooper.edu
DTSTAMP; TZID=America/New_York:20170406T140000
ORGANIZER;CN=The Cooper Union:MAILTO:webmaster@cooper.edu
DTSTART; TZID=America/New_York:20170406T140000
DTEND; TZID=America/New_York:20170406T140000
SUMMARY:Visiting Lecture | William O'Brien Jr.: Room for Artifacts
DESCRIPTION:William O'Brien Jr.&nbsp;will be presenting ideas from his book, Room for Artifacts.&nbsp;
END:VEVENT
END:VCALENDAR
