BEGIN:VCALENDAR
VERSION:2.0
PRODID:-//hacksw/handcal//NONSGML v1.0//EN
BEGIN:VEVENT
UID:webmaster@cooper.edu
DTSTAMP; TZID=America/New_York:20170418T183000
ORGANIZER;CN=The Cooper Union:MAILTO:webmaster@cooper.edu
DTSTART; TZID=America/New_York:20170418T183000
DTEND; TZID=America/New_York:20170418T203000
SUMMARY:Hanif Kara: Designing Interdisciplinary Attitudes
DESCRIPTION:In a free, public presentation the London-based structural engineer and Professor of Architectural Technology at Harvard GSD will show examples of "design research"
END:VEVENT
END:VCALENDAR
