BEGIN:VCALENDAR
VERSION:2.0
PRODID:-//hacksw/handcal//NONSGML v1.0//EN
BEGIN:VEVENT
UID:webmaster@cooper.edu
DTSTAMP; TZID=America/New_York:20170405T090000
ORGANIZER;CN=The Cooper Union:MAILTO:webmaster@cooper.edu
DTSTART; TZID=America/New_York:20170405T090000
DTEND; TZID=America/New_York:20170413T170000
SUMMARY:idNYC Pop-Up Enrollment Center
DESCRIPTION:Friday, March 31 through Thursday, April 13 (weekdays only), 9 a.m. - 5 p.m.
END:VEVENT
END:VCALENDAR
