BEGIN:VCALENDAR
VERSION:2.0
PRODID:-//hacksw/handcal//NONSGML v1.0//EN
BEGIN:VEVENT
UID:webmaster@cooper.edu
DTSTAMP; TZID=America/New_York:20170426T183000
ORGANIZER;CN=The Cooper Union:MAILTO:webmaster@cooper.edu
DTSTART; TZID=America/New_York:20170426T183000
DTEND; TZID=America/New_York:20170426T200000
SUMMARY:Peter Ungar on "Evolution's Bite"
DESCRIPTION:In a free, public discussion, the noted paleoanthropologist presents a remarkable investigation into the ways that our teeth—their shape, chemistry, and wear—reveal how we came to be
END:VEVENT
END:VCALENDAR
