BEGIN:VCALENDAR
VERSION:2.0
PRODID:-//hacksw/handcal//NONSGML v1.0//EN
BEGIN:VEVENT
UID:webmaster@cooper.edu
DTSTAMP; TZID=America/New_York:20170417T183000
ORGANIZER;CN=The Cooper Union:MAILTO:webmaster@cooper.edu
DTSTART; TZID=America/New_York:20170417T183000
DTEND; TZID=America/New_York:20170417T200000
SUMMARY:Cass R. Sunstein's "#Republic"
DESCRIPTION:A free, public talk on how today's Internet is driving political fragmentation, polarization, and even extremism—and what can be done about it
END:VEVENT
END:VCALENDAR
