BEGIN:VCALENDAR
VERSION:2.0
PRODID:-//hacksw/handcal//NONSGML v1.0//EN
BEGIN:VEVENT
UID:webmaster@cooper.edu
DTSTAMP; TZID=America/New_York:20170330T183000
ORGANIZER;CN=The Cooper Union:MAILTO:webmaster@cooper.edu
DTSTART; TZID=America/New_York:20170330T183000
DTEND; TZID=America/New_York:20170330T203000
SUMMARY:Sociologist Philip Gorski
DESCRIPTION:A free, pubic talk arguing that the U.S. founders envisioned the country as a weaving of the ethical vision of the Hebrew prophets and the Western political heritage of civic republicanism
END:VEVENT
END:VCALENDAR
