BEGIN:VCALENDAR
VERSION:2.0
PRODID:-//hacksw/handcal//NONSGML v1.0//EN
BEGIN:VEVENT
UID:webmaster@cooper.edu
DTSTAMP; TZID=America/New_York:20170404T183000
ORGANIZER;CN=The Cooper Union:MAILTO:webmaster@cooper.edu
DTSTART; TZID=America/New_York:20170404T183000
DTEND; TZID=America/New_York:20170404T200000
SUMMARY: Robert Silman on "Being Heroic?"
DESCRIPTION:In a free, public lecture, the distinguished structural engineer presents examples of steel structures that illustrate the idea that being "heroic" is not all that is required for excellent structural engineering
END:VEVENT
END:VCALENDAR
