BEGIN:VCALENDAR
VERSION:2.0
PRODID:-//hacksw/handcal//NONSGML v1.0//EN
BEGIN:VEVENT
UID:webmaster@cooper.edu
DTSTAMP; TZID=America/New_York:20170317T170000
ORGANIZER;CN=The Cooper Union:MAILTO:webmaster@cooper.edu
DTSTART; TZID=America/New_York:20170317T170000
DTEND; TZID=America/New_York:20170317T200000
SUMMARY:Supporting Feminist Movement Building
DESCRIPTION:A free, public event related to the 61st meeting of the United Nations Commission on the Status of Women
END:VEVENT
END:VCALENDAR
