BEGIN:VCALENDAR
VERSION:2.0
PRODID:-//hacksw/handcal//NONSGML v1.0//EN
BEGIN:VEVENT
UID:webmaster@cooper.edu
DTSTAMP; TZID=America/New_York:20170406T183000
ORGANIZER;CN=The Cooper Union:MAILTO:webmaster@cooper.edu
DTSTART; TZID=America/New_York:20170406T183000
DTEND; TZID=America/New_York:20170406T193000
SUMMARY:Former US Attorney Preet Bharara Gives John Jay Iselin Memorial Lecture 
DESCRIPTION:This event is "sold out" due to overwhelming popularity
END:VEVENT
END:VCALENDAR
