BEGIN:VCALENDAR
VERSION:2.0
PRODID:-//hacksw/handcal//NONSGML v1.0//EN
BEGIN:VEVENT
UID:webmaster@cooper.edu
DTSTAMP; TZID=America/New_York:20170321T120000
ORGANIZER;CN=The Cooper Union:MAILTO:webmaster@cooper.edu
DTSTART; TZID=America/New_York:20170321T120000
DTEND; TZID=America/New_York:20170321T140000
SUMMARY:Field Guided: The Field Which Each of Us Elicits, In a Project and Over a Lifetime
DESCRIPTION:Kyna Leski AR'85 discusses her work followed by a conversation with David Gersten
END:VEVENT
END:VCALENDAR
