BEGIN:VCALENDAR
VERSION:2.0
PRODID:-//hacksw/handcal//NONSGML v1.0//EN
BEGIN:VEVENT
UID:webmaster@cooper.edu
DTSTAMP; TZID=America/New_York:20170302T183000
ORGANIZER;CN=The Cooper Union:MAILTO:webmaster@cooper.edu
DTSTART; TZID=America/New_York:20170302T183000
DTEND; TZID=America/New_York:20170302T203000
SUMMARY:Dan Wood: We'll Get There When We Cross the Bridge
DESCRIPTION:Prof. Dan Wood will present on his work.&nbsp;
END:VEVENT
END:VCALENDAR
