BEGIN:VCALENDAR
VERSION:2.0
PRODID:-//hacksw/handcal//NONSGML v1.0//EN
BEGIN:VEVENT
UID:webmaster@cooper.edu
DTSTAMP; TZID=America/New_York:20170222T180000
ORGANIZER;CN=The Cooper Union:MAILTO:webmaster@cooper.edu
DTSTART; TZID=America/New_York:20170222T180000
DTEND; TZID=America/New_York:20170222T200000
SUMMARY:Peter Lynch, AR '84: A Conversation on Perfection
DESCRIPTION:Peter Lynch will lecture and facilitate&nbsp;a conversation on perfection.&nbsp;
END:VEVENT
END:VCALENDAR
