BEGIN:VCALENDAR
VERSION:2.0
PRODID:-//hacksw/handcal//NONSGML v1.0//EN
BEGIN:VEVENT
UID:webmaster@cooper.edu
DTSTAMP; TZID=America/New_York:20170401T150000
ORGANIZER;CN=The Cooper Union:MAILTO:webmaster@cooper.edu
DTSTART; TZID=America/New_York:20170401T150000
DTEND; TZID=America/New_York:20170401T220000
SUMMARY:TEDx Cooper Union 2017
DESCRIPTION:A TEDx event independently organized by students of the Cooper Union featuring both external speakers as well as students, faculty and alumni presenters
END:VEVENT
END:VCALENDAR
