BEGIN:VCALENDAR
VERSION:2.0
PRODID:-//hacksw/handcal//NONSGML v1.0//EN
BEGIN:VEVENT
UID:webmaster@cooper.edu
DTSTAMP; TZID=America/New_York:20170223T180000
ORGANIZER;CN=The Cooper Union:MAILTO:webmaster@cooper.edu
DTSTART; TZID=America/New_York:20170223T180000
DTEND; TZID=America/New_York:20170223T200000
SUMMARY:Keith Krumwiede: Stories from Another America
DESCRIPTION:Keith Krumwiede will present thoughts from his book&nbsp;Atlas of Another America.
END:VEVENT
END:VCALENDAR
