BEGIN:VCALENDAR
VERSION:2.0
PRODID:-//hacksw/handcal//NONSGML v1.0//EN
BEGIN:VEVENT
UID:webmaster@cooper.edu
DTSTAMP; TZID=America/New_York:20170213T130000
ORGANIZER;CN=The Cooper Union:MAILTO:webmaster@cooper.edu
DTSTART; TZID=America/New_York:20170213T130000
DTEND; TZID=America/New_York:20170226T180000
SUMMARY:Keith Krumwiede: Selections from Atlas of Another America
DESCRIPTION:&nbsp;The exhibition presents selected drawings from&nbsp;Atlas of Another America.&nbsp;
END:VEVENT
END:VCALENDAR
