BEGIN:VCALENDAR
VERSION:2.0
PRODID:-//hacksw/handcal//NONSGML v1.0//EN
BEGIN:VEVENT
UID:webmaster@cooper.edu
DTSTAMP; TZID=America/New_York:20170215T180000
ORGANIZER;CN=The Cooper Union:MAILTO:webmaster@cooper.edu
DTSTART; TZID=America/New_York:20170215T180000
DTEND; TZID=America/New_York:20170215T200058
SUMMARY:Mapping Graphic Design History in Switzerland 
DESCRIPTION:Robert Lzicar and Davide Fornari, co-editors of "Mapping Graphic Design History in Switzerland," discuss their book in a free, open event
END:VEVENT
END:VCALENDAR
