BEGIN:VCALENDAR
VERSION:2.0
PRODID:-//hacksw/handcal//NONSGML v1.0//EN
BEGIN:VEVENT
UID:webmaster@cooper.edu
DTSTAMP; TZID=America/New_York:20170201T180000
ORGANIZER;CN=The Cooper Union:MAILTO:webmaster@cooper.edu
DTSTART; TZID=America/New_York:20170201T180000
DTEND; TZID=America/New_York:20170201T200000
SUMMARY:Byoung Cho: Experience and Perception
DESCRIPTION:Byoung Cho will present&nbsp;his latest work in a&nbsp;lecture.
END:VEVENT
END:VCALENDAR
